BEGIN:VCALENDAR
VERSION:2.0
PRODID:-//eventon.com NONSGML v1.0//EN
CALSCALE:GREGORIAN
METHOD:PUBLISH
BEGIN:VEVENT
UID:69e5eac2424b6
DTSTAMP:20260420T085842Z
DTSTART:20250311T010000Z
DTEND:20250328T030000Z
LOCATION:
SUMMARY:XXV. Curso "Sexualidad\,  Género y Desarrollo" 2025
DESCRIPTION:ABIERTO EL PLAZO DE INSCRIPCIÓN para la nueva edición del Cur
 so “Sexualidad\,  Género y Desarrollo”\,  que desde el año 2000 organ
 izamos desde medicusmundi Gipuzkoa\,  con la colaboración de la Universida
 d Pública del País Vasco UPV/EHU. El objetivo principal de este Curso es\
 ,  dotar al alumnado de los instrumentos de análisis[..]\nhttps://uks.eus/
 es/events/xxv-curso-sexualidad-genero-y-desarrollo-2025/
URL:https://uks.eus/es/events/xxv-curso-sexualidad-genero-y-desarrollo-2025/
END:VEVENT
END:VCALENDAR